BEGIN:VCALENDAR
VERSION:2.0
PRODID:-//Musikfest Blumenthal - ECPv6.15.20//NONSGML v1.0//EN
CALSCALE:GREGORIAN
METHOD:PUBLISH
X-WR-CALNAME:Musikfest Blumenthal
X-ORIGINAL-URL:https://musikfest-blumenthal.de
X-WR-CALDESC:Veranstaltungen für Musikfest Blumenthal
REFRESH-INTERVAL;VALUE=DURATION:PT1H
X-Robots-Tag:noindex
X-PUBLISHED-TTL:PT1H
BEGIN:VTIMEZONE
TZID:Europe/Berlin
BEGIN:DAYLIGHT
TZOFFSETFROM:+0100
TZOFFSETTO:+0200
TZNAME:CEST
DTSTART:20250330T010000
END:DAYLIGHT
BEGIN:STANDARD
TZOFFSETFROM:+0200
TZOFFSETTO:+0100
TZNAME:CET
DTSTART:20251026T010000
END:STANDARD
BEGIN:DAYLIGHT
TZOFFSETFROM:+0100
TZOFFSETTO:+0200
TZNAME:CEST
DTSTART:20260329T010000
END:DAYLIGHT
BEGIN:STANDARD
TZOFFSETFROM:+0200
TZOFFSETTO:+0100
TZNAME:CET
DTSTART:20261025T010000
END:STANDARD
BEGIN:DAYLIGHT
TZOFFSETFROM:+0100
TZOFFSETTO:+0200
TZNAME:CEST
DTSTART:20270328T010000
END:DAYLIGHT
BEGIN:STANDARD
TZOFFSETFROM:+0200
TZOFFSETTO:+0100
TZNAME:CET
DTSTART:20271031T010000
END:STANDARD
END:VTIMEZONE
BEGIN:VEVENT
DTSTART;TZID=Europe/Berlin:20260731T190000
DTEND;TZID=Europe/Berlin:20260731T190000
DTSTAMP:20260420T034623
CREATED:20250214T130021Z
LAST-MODIFIED:20260224T100528Z
UID:7217-1785524400-1785524400@musikfest-blumenthal.de
SUMMARY:Konzert "Grenzenlos" Tom & Flo und die Camerata Vitilo
DESCRIPTION:
URL:https://musikfest-blumenthal.de/event/konzert-grenzenlos
LOCATION:Dachboden Ökonomiegebäude\, Blumenthal 1\, Aichach\, 86551\, Germany
CATEGORIES:Konzert
ATTACH;FMTTYPE=image/jpeg:https://musikfest-blumenthal.de/wp-content/uploads/2026/02/TomFlo-Pressefoto-1-2025-c-Dominik-Kneissl.jpg
END:VEVENT
BEGIN:VEVENT
DTSTART;TZID=Europe/Berlin:20260801T110000
DTEND;TZID=Europe/Berlin:20260801T110000
DTSTAMP:20260420T034623
CREATED:20250214T134544Z
LAST-MODIFIED:20260224T102223Z
UID:7248-1785582000-1785582000@musikfest-blumenthal.de
SUMMARY:Kinderkonzert "Sieben Tönchen auf einen Streich"
DESCRIPTION:
URL:https://musikfest-blumenthal.de/event/kinderkonzert-sieben-toenchen
LOCATION:Dachboden Ökonomiegebäude\, Blumenthal 1\, Aichach\, 86551\, Germany
CATEGORIES:Konzert
ATTACH;FMTTYPE=image/jpeg:https://musikfest-blumenthal.de/wp-content/uploads/2026/02/8T3B1817_Sieben-Toenchen-1_by-Frauke-Wichmann-scaled.jpg
END:VEVENT
BEGIN:VEVENT
DTSTART;TZID=Europe/Berlin:20260801T160000
DTEND;TZID=Europe/Berlin:20260801T160000
DTSTAMP:20260420T034623
CREATED:20250214T135054Z
LAST-MODIFIED:20260320T160545Z
UID:7251-1785600000-1785600000@musikfest-blumenthal.de
SUMMARY:Education-Konzert
DESCRIPTION:
URL:https://musikfest-blumenthal.de/event/education-konzert
LOCATION:Kirche Blumenthal\, Blumenthal 1\, Aichach\, 86551\, Germany
CATEGORIES:Konzert
ATTACH;FMTTYPE=image/jpeg:https://musikfest-blumenthal.de/wp-content/uploads/2025/12/Musikfest_Blumenthal_2025_Astrid_Frede_168-scaled.jpg
END:VEVENT
BEGIN:VEVENT
DTSTART;TZID=Europe/Berlin:20260801T190000
DTEND;TZID=Europe/Berlin:20260801T190000
DTSTAMP:20260420T034623
CREATED:20250214T135847Z
LAST-MODIFIED:20260305T090604Z
UID:7256-1785610800-1785610800@musikfest-blumenthal.de
SUMMARY:Orchesterkonzert "Eine Nacht mit Mozart"
DESCRIPTION:
URL:https://musikfest-blumenthal.de/event/orchesterkonzert-mozart
LOCATION:Dachboden Ökonomiegebäude\, Blumenthal 1\, Aichach\, 86551\, Germany
CATEGORIES:Konzert
ATTACH;FMTTYPE=image/jpeg:https://musikfest-blumenthal.de/wp-content/uploads/2026/02/Musikfest-2024-606-von-650-scaled.jpg
END:VEVENT
BEGIN:VEVENT
DTSTART;TZID=Europe/Berlin:20260802T153000
DTEND;TZID=Europe/Berlin:20260802T153000
DTSTAMP:20260420T034623
CREATED:20250214T140435Z
LAST-MODIFIED:20260331T121852Z
UID:7263-1785684600-1785684600@musikfest-blumenthal.de
SUMMARY:Wanderkonzert
DESCRIPTION:
URL:https://musikfest-blumenthal.de/event/wanderkonzert
LOCATION:Treffpunkt vor der Kirche
CATEGORIES:Konzert
ATTACH;FMTTYPE=image/jpeg:https://musikfest-blumenthal.de/wp-content/uploads/2024/12/Musikfest-2024-494-von-650-scaled.jpg
END:VEVENT
BEGIN:VEVENT
DTSTART;TZID=Europe/Berlin:20260802T180000
DTEND;TZID=Europe/Berlin:20260802T180000
DTSTAMP:20260420T034623
CREATED:20260224T101129Z
LAST-MODIFIED:20260224T101129Z
UID:10296-1785693600-1785693600@musikfest-blumenthal.de
SUMMARY:Festivalfinale - Großes Orchesterkonzert
DESCRIPTION:
URL:https://musikfest-blumenthal.de/event/festivalfinale
LOCATION:Dachboden Ökonomiegebäude\, Blumenthal 1\, Aichach\, 86551\, Germany
ATTACH;FMTTYPE=image/jpeg:https://musikfest-blumenthal.de/wp-content/uploads/2023/11/Musikfest_Blumenthal_2023_Gerard_Essaka_47-scaled-e1733306326419.jpg
END:VEVENT
END:VCALENDAR